BEGIN:VCALENDAR
VERSION:2.0
PRODID:-//TC Weimar 1912 e.V. - ECPv6.15.17.1//NONSGML v1.0//EN
CALSCALE:GREGORIAN
METHOD:PUBLISH
X-WR-CALNAME:TC Weimar 1912 e.V.
X-ORIGINAL-URL:https://tc-weimar.de
X-WR-CALDESC:Veranstaltungen für TC Weimar 1912 e.V.
REFRESH-INTERVAL;VALUE=DURATION:PT1H
X-Robots-Tag:noindex
X-PUBLISHED-TTL:PT1H
BEGIN:VTIMEZONE
TZID:Europe/Berlin
BEGIN:DAYLIGHT
TZOFFSETFROM:+0100
TZOFFSETTO:+0200
TZNAME:CEST
DTSTART:20190331T010000
END:DAYLIGHT
BEGIN:STANDARD
TZOFFSETFROM:+0200
TZOFFSETTO:+0100
TZNAME:CET
DTSTART:20191027T010000
END:STANDARD
BEGIN:DAYLIGHT
TZOFFSETFROM:+0100
TZOFFSETTO:+0200
TZNAME:CEST
DTSTART:20200329T010000
END:DAYLIGHT
BEGIN:STANDARD
TZOFFSETFROM:+0200
TZOFFSETTO:+0100
TZNAME:CET
DTSTART:20201025T010000
END:STANDARD
BEGIN:DAYLIGHT
TZOFFSETFROM:+0100
TZOFFSETTO:+0200
TZNAME:CEST
DTSTART:20210328T010000
END:DAYLIGHT
BEGIN:STANDARD
TZOFFSETFROM:+0200
TZOFFSETTO:+0100
TZNAME:CET
DTSTART:20211031T010000
END:STANDARD
END:VTIMEZONE
BEGIN:VEVENT
DTSTART;TZID=Europe/Berlin:20201001T193000
DTEND;TZID=Europe/Berlin:20201001T213000
DTSTAMP:20260420T160519
CREATED:20201001T160820Z
LAST-MODIFIED:20201001T160820Z
UID:11800-1601580600-1601587800@tc-weimar.de
SUMMARY:Vorstandssitzung Oktober 2020
DESCRIPTION:Die nächste Vorstandssitzung findet am 1. Oktober 2020 um 19:30 Uhr im Clubhaus statt.\n\n\nTagesordnung \n\n\nKurt lädt zu einem kleinen Umtrunk ein\n\n\nProtokollführung\, Protokollkontrolle 08 u. 09/2020\n\n\nTermine in Oktober-Dezember (Sport/ MV/ Treffen OB/ TTV-Verbandstag)\n\n\nSport Oktober\nTraining (Halle) – neue Preise\nEinsteigertreff/ Singletreff (Bericht Erstsemestertreff)\nSaisonabschlussturnier\nSchulturnhallenbenutzung (Athletik -> Trevor)\nPhysiotraining (Pasquet)\nPokale clubinterne Meisterschaften\nMannschaftsausschreibung (neue Mannschaften) -> Rückläufer\nMannschaftskapitäntreffen\nMeldungen Winterpokal\nTennisExpress im nächsten Jahr\n\n\nSchliessdienst im Winter\n\n\nTermine\nArbeiten Arbeitseinsätze\nSaisonabschluss\nWinterfestmachung\nPlatzaufbereitung\nAbsprache mit Fa. Vierhock\n\n\nWünsche zur Haushaltsplanung 2021/ Spirit 2021\nStand Kassenprüfung 2019\n\n\nAn Evening with Sinem\n\n\nDiverses\n\nNicht-öffentlicher Teil
URL:https://tc-weimar.de/termin/vorstandssitzung-oktober-2020/
LOCATION:TC Weimar 1912 e.V.\, Fuldaer Straße 113\, Weimar\, 99423
CATEGORIES:Verein
ORGANIZER;CN="TC Weimar 1912 e.V.":MAILTO:info@tc-weimar.de
END:VEVENT
END:VCALENDAR