BEGIN:VCALENDAR
VERSION:2.0
PRODID:-//TC Weimar 1912 e.V. - ECPv6.15.17.1//NONSGML v1.0//EN
CALSCALE:GREGORIAN
METHOD:PUBLISH
X-WR-CALNAME:TC Weimar 1912 e.V.
X-ORIGINAL-URL:https://tc-weimar.de
X-WR-CALDESC:Veranstaltungen für TC Weimar 1912 e.V.
REFRESH-INTERVAL;VALUE=DURATION:PT1H
X-Robots-Tag:noindex
X-PUBLISHED-TTL:PT1H
BEGIN:VTIMEZONE
TZID:Europe/Berlin
BEGIN:DAYLIGHT
TZOFFSETFROM:+0100
TZOFFSETTO:+0200
TZNAME:CEST
DTSTART:20190331T010000
END:DAYLIGHT
BEGIN:STANDARD
TZOFFSETFROM:+0200
TZOFFSETTO:+0100
TZNAME:CET
DTSTART:20191027T010000
END:STANDARD
BEGIN:DAYLIGHT
TZOFFSETFROM:+0100
TZOFFSETTO:+0200
TZNAME:CEST
DTSTART:20200329T010000
END:DAYLIGHT
BEGIN:STANDARD
TZOFFSETFROM:+0200
TZOFFSETTO:+0100
TZNAME:CET
DTSTART:20201025T010000
END:STANDARD
BEGIN:DAYLIGHT
TZOFFSETFROM:+0100
TZOFFSETTO:+0200
TZNAME:CEST
DTSTART:20210328T010000
END:DAYLIGHT
BEGIN:STANDARD
TZOFFSETFROM:+0200
TZOFFSETTO:+0100
TZNAME:CET
DTSTART:20211031T010000
END:STANDARD
END:VTIMEZONE
BEGIN:VEVENT
DTSTART;TZID=Europe/Berlin:20200702T200000
DTEND;TZID=Europe/Berlin:20200702T220000
DTSTAMP:20260420T203617
CREATED:20200701T095652Z
LAST-MODIFIED:20200701T095652Z
UID:11729-1593720000-1593727200@tc-weimar.de
SUMMARY:Vorstandssitzung Juli 2020
DESCRIPTION:Die nächste Vorstandssitzung findet am 2. Juli 2020 um 20 Uhr im Clubhaus statt.\n\nTagesordnung \n\nProtokollführung/ Protokollkontrolle 6/2020\nSportveranstaltungen (intern/extern)\nSchließdienst\nSonstiges (Vorschläge erwünscht)\nNicht-öffentlicher Teil
URL:https://tc-weimar.de/termin/vorstandssitzung-juli-2020/
LOCATION:TC Weimar 1912 e.V.\, Fuldaer Straße 113\, Weimar\, 99423
CATEGORIES:Verein
ORGANIZER;CN="TC Weimar 1912 e.V.":MAILTO:info@tc-weimar.de
END:VEVENT
BEGIN:VEVENT
DTSTART;TZID=Europe/Berlin:20200716T173000
DTEND;TZID=Europe/Berlin:20200716T200000
DTSTAMP:20260420T203617
CREATED:20200710T203551Z
LAST-MODIFIED:20200710T203551Z
UID:11749-1594920600-1594929600@tc-weimar.de
SUMMARY:After-Work-Turnier
DESCRIPTION:
URL:https://tc-weimar.de/termin/after-work-turnier/
LOCATION:TC Weimar 1912 e.V.\, Fuldaer Straße 113\, Weimar\, 99423
CATEGORIES:Turniere
ORGANIZER;CN="TC Weimar 1912 e.V.":MAILTO:info@tc-weimar.de
END:VEVENT
BEGIN:VEVENT
DTSTART;VALUE=DATE:20200718
DTEND;VALUE=DATE:20200721
DTSTAMP:20260420T203617
CREATED:20200710T203725Z
LAST-MODIFIED:20200710T203725Z
UID:11753-1595059200-1595231999@tc-weimar.de
SUMMARY:Weimarer Kinder- und Jugendturnier (DTB-Turnier)
DESCRIPTION:
URL:https://tc-weimar.de/termin/weimarer-kinder-und-jugendturnier-dtb-turnier/
LOCATION:TC Weimar 1912 e.V.\, Fuldaer Straße 113\, Weimar\, 99423
CATEGORIES:Turniere
ORGANIZER;CN="TC Weimar 1912 e.V.":MAILTO:info@tc-weimar.de
END:VEVENT
BEGIN:VEVENT
DTSTART;VALUE=DATE:20200718
DTEND;VALUE=DATE:20200721
DTSTAMP:20260420T203617
CREATED:20200710T203758Z
LAST-MODIFIED:20200710T203758Z
UID:11755-1595059200-1595231999@tc-weimar.de
SUMMARY:LK-Turnier
DESCRIPTION:
URL:https://tc-weimar.de/termin/lk-turnier/
LOCATION:TC Weimar 1912 e.V.\, Fuldaer Straße 113\, Weimar\, 99423
CATEGORIES:Turniere
ORGANIZER;CN="TC Weimar 1912 e.V.":MAILTO:info@tc-weimar.de
END:VEVENT
END:VCALENDAR