BEGIN:VCALENDAR
VERSION:2.0
PRODID:-//TC Weimar 1912 e.V. - ECPv6.15.17.1//NONSGML v1.0//EN
CALSCALE:GREGORIAN
METHOD:PUBLISH
X-WR-CALNAME:TC Weimar 1912 e.V.
X-ORIGINAL-URL:https://tc-weimar.de
X-WR-CALDESC:Veranstaltungen für TC Weimar 1912 e.V.
REFRESH-INTERVAL;VALUE=DURATION:PT1H
X-Robots-Tag:noindex
X-PUBLISHED-TTL:PT1H
BEGIN:VTIMEZONE
TZID:Europe/Berlin
BEGIN:DAYLIGHT
TZOFFSETFROM:+0100
TZOFFSETTO:+0200
TZNAME:CEST
DTSTART:20190331T010000
END:DAYLIGHT
BEGIN:STANDARD
TZOFFSETFROM:+0200
TZOFFSETTO:+0100
TZNAME:CET
DTSTART:20191027T010000
END:STANDARD
BEGIN:DAYLIGHT
TZOFFSETFROM:+0100
TZOFFSETTO:+0200
TZNAME:CEST
DTSTART:20200329T010000
END:DAYLIGHT
BEGIN:STANDARD
TZOFFSETFROM:+0200
TZOFFSETTO:+0100
TZNAME:CET
DTSTART:20201025T010000
END:STANDARD
BEGIN:DAYLIGHT
TZOFFSETFROM:+0100
TZOFFSETTO:+0200
TZNAME:CEST
DTSTART:20210328T010000
END:DAYLIGHT
BEGIN:STANDARD
TZOFFSETFROM:+0200
TZOFFSETTO:+0100
TZNAME:CET
DTSTART:20211031T010000
END:STANDARD
END:VTIMEZONE
BEGIN:VEVENT
DTSTART;TZID=Europe/Berlin:20200604T200000
DTEND;TZID=Europe/Berlin:20200604T220000
DTSTAMP:20260420T220117
CREATED:20200604T095728Z
LAST-MODIFIED:20200604T095728Z
UID:11719-1591300800-1591308000@tc-weimar.de
SUMMARY:Vorstandssitzung Juni 2020
DESCRIPTION:Die nächste Vorstandssitzung findet heute\, am 4. Juni 2020 um 20 Uhr im Clubhaus statt.\n\nTagesordnung \n\nProtokollführung\, Protokollkontrollen der Videokonferenzen 02/2020\nSchlüsselverwaltung/ Organisation Schließdienst\nAktuelles in der Corona-Pandemie/ Lockerungen\nFinanzen\nStand / Termine Kassenprüfung / Termin Mitgliederversammlung / Sponsorenquise\nSport\nTermine/ Turniere/ Fahrplan / Training Sportentwicklung\nSaisoneröffnung\nDeutschland spielt Tennis\nFast-Learning-Kurse\nIntensivtraining\nAnlage/ Technik\nÖffnung / Schliessung der Anlage\nStand Wanderschlüssel\nStand Torschaden\nFahrplan Clubhaus\nOffene Arbeiten an der Anlage/ Vorschläge für Arbeitseinsätze in der laufenden Saison Holzbänke überarbeiten\, Terrassenpfosten streichen\,  Vordach  (Planung vorlegen\, Bildmaterial (Thomas)\nWege mit Ziegelmehl befüllen\nAufgaben Platzwart\nArbeitsverträge Club-Services\, Clubraum: Inneneinrichtung Lampen\nÖffentlichkeitsabeit / Homepage\nKonzeption: Tennisservices 2020\nDiverses\nNÖT
URL:https://tc-weimar.de/termin/vorstandssitzung-juni-2020/
LOCATION:TC Weimar 1912 e.V.\, Fuldaer Straße 113\, Weimar\, 99423
CATEGORIES:Verein
ORGANIZER;CN="TC Weimar 1912 e.V.":MAILTO:info@tc-weimar.de
END:VEVENT
BEGIN:VEVENT
DTSTART;TZID=Europe/Berlin:20200625T200000
DTEND;TZID=Europe/Berlin:20200625T230000
DTSTAMP:20260420T220117
CREATED:20200110T112908Z
LAST-MODIFIED:20200110T112908Z
UID:11633-1593115200-1593126000@tc-weimar.de
SUMMARY:Kartenspielen im Clubhaus
DESCRIPTION:Warum immer nur das langweilige Doppel auf dem Platz? Doppelkopf geht doch auch im Clubhaus!\n\nWir spielen Doppelkopf oder auch andere mitgebrachte Kartenspiele. Kommt einfach mit oder ohne Kartenspiel vorbei!
URL:https://tc-weimar.de/termin/kartenspielen-im-clubhaus-9/
LOCATION:TC Weimar 1912 e.V.\, Fuldaer Straße 113\, Weimar\, 99423
END:VEVENT
END:VCALENDAR