BEGIN:VCALENDAR
VERSION:2.0
PRODID:-//TC Weimar 1912 e.V. - ECPv6.15.17.1//NONSGML v1.0//EN
CALSCALE:GREGORIAN
METHOD:PUBLISH
X-WR-CALNAME:TC Weimar 1912 e.V.
X-ORIGINAL-URL:https://tc-weimar.de
X-WR-CALDESC:Veranstaltungen für TC Weimar 1912 e.V.
REFRESH-INTERVAL;VALUE=DURATION:PT1H
X-Robots-Tag:noindex
X-PUBLISHED-TTL:PT1H
BEGIN:VTIMEZONE
TZID:Europe/Berlin
BEGIN:DAYLIGHT
TZOFFSETFROM:+0100
TZOFFSETTO:+0200
TZNAME:CEST
DTSTART:20190331T010000
END:DAYLIGHT
BEGIN:STANDARD
TZOFFSETFROM:+0200
TZOFFSETTO:+0100
TZNAME:CET
DTSTART:20191027T010000
END:STANDARD
BEGIN:DAYLIGHT
TZOFFSETFROM:+0100
TZOFFSETTO:+0200
TZNAME:CEST
DTSTART:20200329T010000
END:DAYLIGHT
BEGIN:STANDARD
TZOFFSETFROM:+0200
TZOFFSETTO:+0100
TZNAME:CET
DTSTART:20201025T010000
END:STANDARD
BEGIN:DAYLIGHT
TZOFFSETFROM:+0100
TZOFFSETTO:+0200
TZNAME:CEST
DTSTART:20210328T010000
END:DAYLIGHT
BEGIN:STANDARD
TZOFFSETFROM:+0200
TZOFFSETTO:+0100
TZNAME:CET
DTSTART:20211031T010000
END:STANDARD
END:VTIMEZONE
BEGIN:VEVENT
DTSTART;TZID=Europe/Berlin:20200220T200000
DTEND;TZID=Europe/Berlin:20200220T230000
DTSTAMP:20260422T161940
CREATED:20200220T064935Z
LAST-MODIFIED:20200220T064935Z
UID:11645-1582228800-1582239600@tc-weimar.de
SUMMARY:Ordentliche Mitgliederversammlung 2020
DESCRIPTION:Einladung zu unserer ordentlichen Mitgliederversammlung. \nDer Vorstand möchte hier einen Rückblick über die Saison 2019 und einen Ausblick für 2020 geben. \nTagesordnung: \n\nBegrüßung (Jürgen Fuchs/ Martin Feustel)\nWahl eines Protokollführers\nWahl eines Versammlungsleiters\nBericht des Vorstandes aus 2019 (Gusta Feuerstein)\nDas Jahr 2019  –  der sportliche Überblick (Heinrich-Hans Raisin)\nDie Finanzentwicklung in 2019 (Mario Riedel)\nAussprache/ Fragen/ Anmerkungen und Anregungen zu den Berichten\nVorstellung des Haushaltsberichtes 2016 (Jürgen Fuchs/ Mario Riedel)\n– Tischvorlage –\nVorstellung des Haushaltsberichtes 2017 (Jürgen Fuchs/ Mario Riedel)\n– Tischvorlage –\nStellungsnahme der Kassenprüfer für die Periode 2016/ 17\nBeschlussantrag: Der Vorstand beantragt die Entlastung für die Jahre 2016 und 2017\nVorstellung und Diskussion des Haushaltsplans für das Jahr 2020\nBeschlussantrag: Die Mitgliederversammlung bestätigt den Haushaltsentwurf für  das Jahr 2020 in der vorliegenden Fassung\nEinführung einer Aufnahmegebühr\nBeschlussantrag: Der Vorstand wird von der Mitgliederversammlung ermächtigt\, im vorgegebenen Rahmen eine Aufnahmegebühr zu erheben.\nVerschiedenes\n(Wünsche\, Vorschläge\, Anträge zur Tagesordnung bitte bis zum 18. Februar 2020 per Mail einreichen).\n\nDie ordnungsgemäß einberufene Mitgliederversammlung ist gemäß § 5 Absatz  7 der Satzung  des TC Weimar in jedem Falle beschlussfähig. Zur Abstimmung berechtigt sind alle Mitglieder unseres Tennisclubs ab dem vollendeten 14. Lebensjahr. \nFür den Vorstand\,\nmit besten Grüßen \nJürgen Fuchs und Martin Feustel
URL:https://tc-weimar.de/termin/ordentliche-mitgliederversammlung-2020/
LOCATION:Dorint Hotel Weimar\, Beethovenplatz 1–2\, Weimar\, 99423
CATEGORIES:Verein
ORGANIZER;CN="TC Weimar 1912 e.V.":MAILTO:info@tc-weimar.de
END:VEVENT
BEGIN:VEVENT
DTSTART;TZID=Europe/Berlin:20200222T110000
DTEND;TZID=Europe/Berlin:20200222T140000
DTSTAMP:20260422T161940
CREATED:20200221T101951Z
LAST-MODIFIED:20200221T101951Z
UID:11651-1582369200-1582380000@tc-weimar.de
SUMMARY:Tenniswanderung
DESCRIPTION:Auch wenn aus der Winterwanderung mangels Schnee nichts geworden ist\, so hat Monika Neumann eine schöne Wanderroute vorgeschlagen: \nTermin:\nSamstag\, den 22. Februar 2020 \nTreffpunkt:\n11 Uhr am Waldschlösschen an der Jenaer Straße (Parkmöglichkeiten gleich gegenüber der Webichtallee) \nRundtour:\nWaldschlösschen – Webicht – Tiefurter Park – Waldschlösschen (insgesamt ca. 8–9 km) \nEinkehr:\nCaféstübchen Tiefurt (und wer Lust hat am Schluss noch einmal im Waldschlösschen) \nDamit es keinen Vorsprung gibt und wir gemeinsam loswandern können\, wäre eine Anmeldung (E-Mail an oeffentlichkeitsarbeit@tc-weimar.de) wünschenswert.
URL:https://tc-weimar.de/termin/tenniswanderung/
LOCATION:Waldschlösschen
END:VEVENT
BEGIN:VEVENT
DTSTART;TZID=Europe/Berlin:20200227T200000
DTEND;TZID=Europe/Berlin:20200227T230000
DTSTAMP:20260422T161940
CREATED:20200110T112647Z
LAST-MODIFIED:20200110T112647Z
UID:11625-1582833600-1582844400@tc-weimar.de
SUMMARY:Kartenspielen im Clubhaus
DESCRIPTION:Warum immer nur das langweilige Doppel auf dem Platz? Doppelkopf geht doch auch im Clubhaus!\n\nWir spielen Doppelkopf oder auch andere mitgebrachte Kartenspiele. Kommt einfach mit oder ohne Kartenspiel vorbei!
URL:https://tc-weimar.de/termin/kartenspielen-im-clubhaus-5/
LOCATION:TC Weimar 1912 e.V.\, Fuldaer Straße 113\, Weimar\, 99423
END:VEVENT
END:VCALENDAR