BEGIN:VCALENDAR
VERSION:2.0
PRODID:-//TC Weimar 1912 e.V. - ECPv6.15.17.1//NONSGML v1.0//EN
CALSCALE:GREGORIAN
METHOD:PUBLISH
X-ORIGINAL-URL:https://tc-weimar.de
X-WR-CALDESC:Veranstaltungen für TC Weimar 1912 e.V.
REFRESH-INTERVAL;VALUE=DURATION:PT1H
X-Robots-Tag:noindex
X-PUBLISHED-TTL:PT1H
BEGIN:VTIMEZONE
TZID:Europe/Berlin
BEGIN:DAYLIGHT
TZOFFSETFROM:+0100
TZOFFSETTO:+0200
TZNAME:CEST
DTSTART:20180325T010000
END:DAYLIGHT
BEGIN:STANDARD
TZOFFSETFROM:+0200
TZOFFSETTO:+0100
TZNAME:CET
DTSTART:20181028T010000
END:STANDARD
BEGIN:DAYLIGHT
TZOFFSETFROM:+0100
TZOFFSETTO:+0200
TZNAME:CEST
DTSTART:20190331T010000
END:DAYLIGHT
BEGIN:STANDARD
TZOFFSETFROM:+0200
TZOFFSETTO:+0100
TZNAME:CET
DTSTART:20191027T010000
END:STANDARD
BEGIN:DAYLIGHT
TZOFFSETFROM:+0100
TZOFFSETTO:+0200
TZNAME:CEST
DTSTART:20200329T010000
END:DAYLIGHT
BEGIN:STANDARD
TZOFFSETFROM:+0200
TZOFFSETTO:+0100
TZNAME:CET
DTSTART:20201025T010000
END:STANDARD
END:VTIMEZONE
BEGIN:VEVENT
DTSTART;TZID=Europe/Berlin:20191205T200000
DTEND;TZID=Europe/Berlin:20191205T223000
DTSTAMP:20260422T192703
CREATED:20191205T134251Z
LAST-MODIFIED:20191205T134251Z
UID:11604-1575576000-1575585000@tc-weimar.de
SUMMARY:Vorstandssitzung November 2019
DESCRIPTION:Hiermit laden wir zur nächsten ordentlichen Vorstandssitzung am 5. Dezember 2019 um 20 Uhr im Clubhaus ein. \nTagesordnung \nProtokollführung\, Protokollkontrolle 11/2019 \nWichtige Termine   Q1/2020\n(Termin/ Inhalte Klausurtagung(en): wo?)\n(Allgem. Terminplan für 2020; Wünsch der Resorts?)\n(Verbandstag im 14.3. März; (Anträge s.u.)\nStand/ Probleme/ Vorhaben\nFinanzen/ Verwaltung\nZwischenstand/ Stand: Kassenprüfung\nSport (Heino)\nTermine/ Turniere/ Fahrplan Sportentwicklung\nKinder-/ Jugend-/ LK-Turnier // -> Vertrag gemacht// -> Organisation\nThüringer LM -> Bewerbung ausgesprochen// -> Organisation\nWO (-)\nAnträge an TTV:\nThüringer LK-Serie\, „Race to Weimar“\nAbschaffung einer „Bearbeitungsgebühr“ für berechtigte Einsprüche\nBenutzung des Fitnessareals durch Hallenabonementen\nNutzung/ Controlling/ Programm Schulturnhallen\nAnlage/ Technik\naktuell: Öffnung/ Schließung der Anlage: hier gibts immer wieder Probleme: nicht auf\, 14.30 wieder zu (betr. insbes. John + Schüler)\nMittelweg\, Terminplan\, Antragsstand\, Materialien\, Bestellung\, Bauausführung\, Termine\, planerisch Zwischenschritte??\nClubraum\nInneneinrichtung (Möblierung fertigstellen (Haushaltantrag)\, Beleuchtung)\nÖffentlichkeitsabeit/ Homepage\nKonzeption: Tennisservices 2020\nDiverses
URL:https://tc-weimar.de/termin/vorstandssitzung-november-2019-2/
LOCATION:TC Weimar 1912 e.V.\, Fuldaer Straße 113\, Weimar\, 99423
CATEGORIES:Verein
ORGANIZER;CN="TC Weimar 1912 e.V.":MAILTO:info@tc-weimar.de
END:VEVENT
BEGIN:VEVENT
DTSTART;TZID=Europe/Berlin:20191219T200000
DTEND;TZID=Europe/Berlin:20191219T230000
DTSTAMP:20260422T192703
CREATED:20191010T153452Z
LAST-MODIFIED:20191010T153452Z
UID:4471-1576785600-1576796400@tc-weimar.de
SUMMARY:Kartenspielen im Clubhaus
DESCRIPTION:Warum immer nur das langweilige Doppel auf dem Platz? Doppelkopf geht doch auch im Clubhaus!\n\nWir spielen Doppelkopf oder auch andere mitgebrachte Kartenspiele. Kommt einfach mit oder ohne Kartenspiel vorbei!
URL:https://tc-weimar.de/termin/kartenspielen-im-clubhaus-3/
LOCATION:TC Weimar 1912 e.V.\, Fuldaer Straße 113\, Weimar\, 99423
ORGANIZER;CN="TC Weimar 1912 e.V.":MAILTO:info@tc-weimar.de
END:VEVENT
BEGIN:VEVENT
DTSTART;TZID=Europe/Berlin:20191227T180000
DTEND;TZID=Europe/Berlin:20191227T210000
DTSTAMP:20260422T192703
CREATED:20191126T130826Z
LAST-MODIFIED:20191126T130916Z
UID:11593-1577469600-1577480400@tc-weimar.de
SUMMARY:Doppelturnier (Erwachsene)
DESCRIPTION:Am 27. Dezember 2019 findet unser Doppel-Spaß-Turnier statt. Wir haben die Halle von 18:00 Uhr bis 21:00 Uhr gebucht. Schön wäre es\, wenn wir uns schon 17:45 Uhr treffen\, damit wir pünktlich beginnen können. \nDas Turnier wird Henne leiten – anmelden könnt Ihr Euch in der Doodle-Liste. Diese ist auf 24 Teilnehmer (Frauen und Männer) begrenzt:\nhttps://doodle.com/poll/a6shfxcffm244pip \nFür Getränke ist gesorgt (können wir bei Anusch kaufen) – wer noch Plätzchen o.ä. hat\, kann diese gerne mitbringen.Kosten für die Plätze und Bälle sind für jeden ca. 10 € (kommt auf die genaue Teilnehmerzahl an). Das Geld würden wir dann in der Halle einsammeln. \nAnmeldeschluss ist der 20. Dezember 2019! \nWir freuen uns schon – Spaß werden wir auf alle Fälle haben. \n  \nBis dahin und ein schönes Weihnachtsfest! \nFür den TC Weimar\, Henry und Conni
URL:https://tc-weimar.de/termin/doppelturnier-erwachsene/
CATEGORIES:Turniere,Verein
ORGANIZER;CN="TC Weimar 1912 e.V.":MAILTO:info@tc-weimar.de
END:VEVENT
END:VCALENDAR