BEGIN:VCALENDAR
VERSION:2.0
PRODID:-//TC Weimar 1912 e.V. - ECPv6.15.17.1//NONSGML v1.0//EN
CALSCALE:GREGORIAN
METHOD:PUBLISH
X-ORIGINAL-URL:https://tc-weimar.de
X-WR-CALDESC:Veranstaltungen für TC Weimar 1912 e.V.
REFRESH-INTERVAL;VALUE=DURATION:PT1H
X-Robots-Tag:noindex
X-PUBLISHED-TTL:PT1H
BEGIN:VTIMEZONE
TZID:Europe/Berlin
BEGIN:DAYLIGHT
TZOFFSETFROM:+0100
TZOFFSETTO:+0200
TZNAME:CEST
DTSTART:20180325T010000
END:DAYLIGHT
BEGIN:STANDARD
TZOFFSETFROM:+0200
TZOFFSETTO:+0100
TZNAME:CET
DTSTART:20181028T010000
END:STANDARD
BEGIN:DAYLIGHT
TZOFFSETFROM:+0100
TZOFFSETTO:+0200
TZNAME:CEST
DTSTART:20190331T010000
END:DAYLIGHT
BEGIN:STANDARD
TZOFFSETFROM:+0200
TZOFFSETTO:+0100
TZNAME:CET
DTSTART:20191027T010000
END:STANDARD
BEGIN:DAYLIGHT
TZOFFSETFROM:+0100
TZOFFSETTO:+0200
TZNAME:CEST
DTSTART:20200329T010000
END:DAYLIGHT
BEGIN:STANDARD
TZOFFSETFROM:+0200
TZOFFSETTO:+0100
TZNAME:CET
DTSTART:20201025T010000
END:STANDARD
END:VTIMEZONE
BEGIN:VEVENT
DTSTART;TZID=Europe/Berlin:20191010T200000
DTEND;TZID=Europe/Berlin:20191010T220000
DTSTAMP:20260422T220428
CREATED:20191009T185100Z
LAST-MODIFIED:20191009T185100Z
UID:4460-1570737600-1570744800@tc-weimar.de
SUMMARY:Vorstandssitzung Oktober 2019
DESCRIPTION:Hiermit laden wir zur nächsten ordentlichen Vorstandssitzung am 10. Oktober 2019 um 20 Uhr im Clubhaus ein.\nTagesordnung \n\nProtokollführung\, Protokollkontrolle 09/2019\nWichtige Termine  QIV/2019   Winterfestmachung/ Winterpokal/ Neujahrsturnier/Winterspaziergang/ MV\n\nStand/ Probleme/ Vorhaben\n\n\n\nFinanzen\nZwischenstand/ Stand: Kassenprüfung\nGastronomie\nKdV (Abschluss): Mario\nKinder/ Jugend\nFahrplan Training allgem.\, spez. Hallentraining\nSport (Heino)\nTermine/ Turniere/ Fahrplan Sportentwicklung\nEtat Jörg\nArbeitsstunden für Mannschaftskapitäne?\nFörderung des Mannschaftstraining\nNutzung/ Controlling/ Programm Schulturnhallen\nAnlage/ Technik\nMittelweg\, Terminplan\nTermine s.o.\nPlatz (Belagumstellung? Konsequenzen\nTermin Fa. Viehock Do. 17.10.\nPlatzanlage anderer Vereine. Erfahrungen (Zwischenbericht)\,\nkonkrete Anfragen und Firmenbestellung?\nClubraum\nInneneinrichtung (Möblierung (s.Anhang)\, Beleuchtung)\nPlatzmiete\nÖffentlichkeitsabeit/ Homepage\n\n\nKonzeption: Tennisservices\nDiverses\nNicht öffentlicher Teil
URL:https://tc-weimar.de/termin/vorstandssitzung-oktober-2019/
LOCATION:TC Weimar 1912 e.V.\, Fuldaer Straße 113\, Weimar\, 99423
CATEGORIES:Verein
ORGANIZER;CN="TC Weimar 1912 e.V.":MAILTO:info@tc-weimar.de
END:VEVENT
BEGIN:VEVENT
DTSTART;TZID=Europe/Berlin:20191031T200000
DTEND;TZID=Europe/Berlin:20191031T230000
DTSTAMP:20260422T220428
CREATED:20191010T153252Z
LAST-MODIFIED:20191010T153252Z
UID:4466-1572552000-1572562800@tc-weimar.de
SUMMARY:Kartenspielen im Clubhaus
DESCRIPTION:Warum immer nur das langweilige Doppel auf dem Platz? Doppelkopf geht doch auch im Clubhaus!\n\nWir spielen Doppelkopf oder auch andere mitgebrachte Kartenspiele. Kommt einfach mit oder ohne Kartenspiel vorbei!
URL:https://tc-weimar.de/termin/kartenspielen-im-clubhaus/
LOCATION:TC Weimar 1912 e.V.\, Fuldaer Straße 113\, Weimar\, 99423
ORGANIZER;CN="TC Weimar 1912 e.V.":MAILTO:info@tc-weimar.de
END:VEVENT
END:VCALENDAR