BEGIN:VCALENDAR
VERSION:2.0
PRODID:-//TC Weimar 1912 e.V. - ECPv6.15.17.1//NONSGML v1.0//EN
CALSCALE:GREGORIAN
METHOD:PUBLISH
X-ORIGINAL-URL:https://tc-weimar.de
X-WR-CALDESC:Veranstaltungen für TC Weimar 1912 e.V.
REFRESH-INTERVAL;VALUE=DURATION:PT1H
X-Robots-Tag:noindex
X-PUBLISHED-TTL:PT1H
BEGIN:VTIMEZONE
TZID:Europe/Berlin
BEGIN:DAYLIGHT
TZOFFSETFROM:+0100
TZOFFSETTO:+0200
TZNAME:CEST
DTSTART:20190331T010000
END:DAYLIGHT
BEGIN:STANDARD
TZOFFSETFROM:+0200
TZOFFSETTO:+0100
TZNAME:CET
DTSTART:20191027T010000
END:STANDARD
BEGIN:DAYLIGHT
TZOFFSETFROM:+0100
TZOFFSETTO:+0200
TZNAME:CEST
DTSTART:20200329T010000
END:DAYLIGHT
BEGIN:STANDARD
TZOFFSETFROM:+0200
TZOFFSETTO:+0100
TZNAME:CET
DTSTART:20201025T010000
END:STANDARD
BEGIN:DAYLIGHT
TZOFFSETFROM:+0100
TZOFFSETTO:+0200
TZNAME:CEST
DTSTART:20210328T010000
END:DAYLIGHT
BEGIN:STANDARD
TZOFFSETFROM:+0200
TZOFFSETTO:+0100
TZNAME:CET
DTSTART:20211031T010000
END:STANDARD
END:VTIMEZONE
BEGIN:VEVENT
DTSTART;TZID=Europe/Berlin:20200521T200000
DTEND;TZID=Europe/Berlin:20200521T230000
DTSTAMP:20260422T135922
CREATED:20200110T112808Z
LAST-MODIFIED:20200110T112821Z
UID:11631-1590091200-1590102000@tc-weimar.de
SUMMARY:Kartenspielen im Clubhaus
DESCRIPTION:Warum immer nur das langweilige Doppel auf dem Platz? Doppelkopf geht doch auch im Clubhaus!\n\nWir spielen Doppelkopf oder auch andere mitgebrachte Kartenspiele. Kommt einfach mit oder ohne Kartenspiel vorbei!
URL:https://tc-weimar.de/termin/kartenspielen-im-clubhaus-8/
LOCATION:TC Weimar 1912 e.V.\, Fuldaer Straße 113\, Weimar\, 99423
END:VEVENT
END:VCALENDAR