BEGIN:VCALENDAR
VERSION:2.0
PRODID:-//TC Weimar 1912 e.V. - ECPv6.15.17.1//NONSGML v1.0//EN
CALSCALE:GREGORIAN
METHOD:PUBLISH
X-WR-CALNAME:TC Weimar 1912 e.V.
X-ORIGINAL-URL:https://tc-weimar.de
X-WR-CALDESC:Veranstaltungen für TC Weimar 1912 e.V.
REFRESH-INTERVAL;VALUE=DURATION:PT1H
X-Robots-Tag:noindex
X-PUBLISHED-TTL:PT1H
BEGIN:VTIMEZONE
TZID:Europe/Berlin
BEGIN:DAYLIGHT
TZOFFSETFROM:+0100
TZOFFSETTO:+0200
TZNAME:CEST
DTSTART:20180325T010000
END:DAYLIGHT
BEGIN:STANDARD
TZOFFSETFROM:+0200
TZOFFSETTO:+0100
TZNAME:CET
DTSTART:20181028T010000
END:STANDARD
BEGIN:DAYLIGHT
TZOFFSETFROM:+0100
TZOFFSETTO:+0200
TZNAME:CEST
DTSTART:20190331T010000
END:DAYLIGHT
BEGIN:STANDARD
TZOFFSETFROM:+0200
TZOFFSETTO:+0100
TZNAME:CET
DTSTART:20191027T010000
END:STANDARD
BEGIN:DAYLIGHT
TZOFFSETFROM:+0100
TZOFFSETTO:+0200
TZNAME:CEST
DTSTART:20200329T010000
END:DAYLIGHT
BEGIN:STANDARD
TZOFFSETFROM:+0200
TZOFFSETTO:+0100
TZNAME:CET
DTSTART:20201025T010000
END:STANDARD
END:VTIMEZONE
BEGIN:VEVENT
DTSTART;TZID=Europe/Berlin:20191227T180000
DTEND;TZID=Europe/Berlin:20191227T210000
DTSTAMP:20260422T204822
CREATED:20191126T130826Z
LAST-MODIFIED:20191126T130916Z
UID:11593-1577469600-1577480400@tc-weimar.de
SUMMARY:Doppelturnier (Erwachsene)
DESCRIPTION:Am 27. Dezember 2019 findet unser Doppel-Spaß-Turnier statt. Wir haben die Halle von 18:00 Uhr bis 21:00 Uhr gebucht. Schön wäre es\, wenn wir uns schon 17:45 Uhr treffen\, damit wir pünktlich beginnen können. \nDas Turnier wird Henne leiten – anmelden könnt Ihr Euch in der Doodle-Liste. Diese ist auf 24 Teilnehmer (Frauen und Männer) begrenzt:\nhttps://doodle.com/poll/a6shfxcffm244pip \nFür Getränke ist gesorgt (können wir bei Anusch kaufen) – wer noch Plätzchen o.ä. hat\, kann diese gerne mitbringen.Kosten für die Plätze und Bälle sind für jeden ca. 10 € (kommt auf die genaue Teilnehmerzahl an). Das Geld würden wir dann in der Halle einsammeln. \nAnmeldeschluss ist der 20. Dezember 2019! \nWir freuen uns schon – Spaß werden wir auf alle Fälle haben. \n  \nBis dahin und ein schönes Weihnachtsfest! \nFür den TC Weimar\, Henry und Conni
URL:https://tc-weimar.de/termin/doppelturnier-erwachsene/
CATEGORIES:Turniere,Verein
ORGANIZER;CN="TC Weimar 1912 e.V.":MAILTO:info@tc-weimar.de
END:VEVENT
END:VCALENDAR