BEGIN:VCALENDAR
VERSION:2.0
PRODID:-//TC Weimar 1912 e.V. - ECPv6.15.17.1//NONSGML v1.0//EN
CALSCALE:GREGORIAN
METHOD:PUBLISH
X-WR-CALNAME:TC Weimar 1912 e.V.
X-ORIGINAL-URL:https://tc-weimar.de
X-WR-CALDESC:Veranstaltungen für TC Weimar 1912 e.V.
REFRESH-INTERVAL;VALUE=DURATION:PT1H
X-Robots-Tag:noindex
X-PUBLISHED-TTL:PT1H
BEGIN:VTIMEZONE
TZID:Europe/Berlin
BEGIN:DAYLIGHT
TZOFFSETFROM:+0100
TZOFFSETTO:+0200
TZNAME:CEST
DTSTART:20180325T010000
END:DAYLIGHT
BEGIN:STANDARD
TZOFFSETFROM:+0200
TZOFFSETTO:+0100
TZNAME:CET
DTSTART:20181028T010000
END:STANDARD
BEGIN:DAYLIGHT
TZOFFSETFROM:+0100
TZOFFSETTO:+0200
TZNAME:CEST
DTSTART:20190331T010000
END:DAYLIGHT
BEGIN:STANDARD
TZOFFSETFROM:+0200
TZOFFSETTO:+0100
TZNAME:CET
DTSTART:20191027T010000
END:STANDARD
BEGIN:DAYLIGHT
TZOFFSETFROM:+0100
TZOFFSETTO:+0200
TZNAME:CEST
DTSTART:20200329T010000
END:DAYLIGHT
BEGIN:STANDARD
TZOFFSETFROM:+0200
TZOFFSETTO:+0100
TZNAME:CET
DTSTART:20201025T010000
END:STANDARD
END:VTIMEZONE
BEGIN:VEVENT
DTSTART;TZID=Europe/Berlin:20190908T100000
DTEND;TZID=Europe/Berlin:20190908T150000
DTSTAMP:20260423T005914
CREATED:20190504T092823Z
LAST-MODIFIED:20190504T092823Z
UID:4230-1567936800-1567954800@tc-weimar.de
SUMMARY:H50BL – USV Jena  vs. TC Weimar 1912
DESCRIPTION:
URL:https://tc-weimar.de/termin/h50bl-usv-jena-vs-tc-weimar-1912/
CATEGORIES:Punktspiele
END:VEVENT
BEGIN:VEVENT
DTSTART;TZID=Europe/Berlin:20190908T100000
DTEND;TZID=Europe/Berlin:20190908T150000
DTSTAMP:20260423T005914
CREATED:20190504T092824Z
LAST-MODIFIED:20190504T092824Z
UID:4231-1567936800-1567954800@tc-weimar.de
SUMMARY:D/H12BK – TC Weimar 1912  vs. Altenburger TC
DESCRIPTION:
URL:https://tc-weimar.de/termin/d-h12bk-tc-weimar-1912-vs-altenburger-tc/
CATEGORIES:Punktspiele
END:VEVENT
END:VCALENDAR